BEGIN:VCALENDAR
VERSION:2.0
PRODID:-//WestEd//Events//EN
CALSCALE:GREGORIAN
METHOD:PUBLISH
BEGIN:VEVENT
UID:event-13971@www.wested.org
DTSTAMP:20260422T101552Z
DTSTART;VALUE=DATE:20220409
DTEND;VALUE=DATE:20220427
SUMMARY:Join WestEd Researchers at the 2022 AERA and NCME Annual Meetings
DESCRIPTION:WestEd researchers will offer presentations\, chair sessions\,
  or serve as discussants during the AERA Annual Meeting on April 20–26\, 
 2022. Researchers will also take part in sessions at the National Council 
 on Measurement in Education (NCME)\, which meets annually with AERA.\\n\\nh
 ttps://www.wested.org/event/2022-aera-ncme/
LOCATION:San Diego\, CA
URL:https://www.wested.org/event/2022-aera-ncme/
END:VEVENT
END:VCALENDAR
