BEGIN:VCALENDAR
VERSION:2.0
PRODID:-//WestEd//Events//EN
CALSCALE:GREGORIAN
METHOD:PUBLISH
BEGIN:VEVENT
UID:event-14043@www.wested.org
DTSTAMP:20260421T012539Z
DTSTART;VALUE=DATE:20220926
DTEND;VALUE=DATE:20220927
SUMMARY:WestEd at the 2022 NCSM Annual Conference
DESCRIPTION:Mathematics experts from WestEd’s Science\, Technology\, Engi
 neering\, & Mathematics team will present at the 2022 NCSM Conference. The 
 conference will take place at the Anaheim Marriott in Anaheim\, California\
 , from September 26-28\, 2022.\\n\\nhttps://www.wested.org/event/2022-ncsm/
LOCATION:Anaheim Marriott
URL:https://www.wested.org/event/2022-ncsm/
END:VEVENT
END:VCALENDAR
