BEGIN:VCALENDAR
VERSION:2.0
PRODID:-//WestEd//Events//EN
CALSCALE:GREGORIAN
METHOD:PUBLISH
BEGIN:VEVENT
UID:event-14469@www.wested.org
DTSTAMP:20260419T171726Z
DTSTART;VALUE=DATE:20240403
DTEND;VALUE=DATE:20240215
SUMMARY:2024 Winter and Spring A-GAME Convenings
DESCRIPTION:Charter authorizers and school leaders are invited to join A-GA
 ME virtually or in person to create innovative\, customized school goals th
 at work for students and identify new ways to measure school quality that g
 o beyond state accountability.\\n\\nhttps://www.wested.org/event/2024-winte
 r-spring-a-game-convenings/
LOCATION:Virtual and In-Person
URL:https://www.wested.org/event/2024-winter-spring-a-game-convenings/
END:VEVENT
END:VCALENDAR
