BEGIN:VCALENDAR
VERSION:2.0
PRODID:-//WestEd//Events//EN
CALSCALE:GREGORIAN
METHOD:PUBLISH
BEGIN:VEVENT
UID:event-13848@www.wested.org
DTSTAMP:20260423T222703Z
DTSTART:20211027T150000Z
DTEND:20211027T160000Z
SUMMARY:Creating Culturally Affirming Spaces: A Systems Orientation
DESCRIPTION:Join REL West for the second webinar in a two-part series des
 igned to expand knowledge on how culturally responsive strategies can be us
 ed to support academic and social and emotional development and to present 
 systemic leadership approaches and strategies for implementing culturally a
 ffirming environments.\\n\\nhttps://www.wested.org/event/creating-culturall
 y-affirming-spaces-a-systems-orientation/
LOCATION:Online
URL:https://www.wested.org/event/creating-culturally-affirming-spaces-a-sys
 tems-orientation/
END:VEVENT
END:VCALENDAR
