BEGIN:VCALENDAR
VERSION:2.0
PRODID:-//WestEd//Events//EN
CALSCALE:GREGORIAN
METHOD:PUBLISH
BEGIN:VEVENT
UID:event-14027@www.wested.org
DTSTAMP:20260421T094502Z
DTSTART;VALUE=DATE:20221025
DTEND;VALUE=DATE:20221026
SUMMARY:Finance Training for School and District Leaders: Federal Financial
  Management\, Single Audit\, and Fiscal Monitoring
DESCRIPTION:The October 2022 training sessions will focus on helping school
  business officers and programs directors increase their knowledge of the a
 llowable uses of federal and the local education maintenance of effort (LEA
  MOE) requirement under IDEA.\\n\\nhttps://www.wested.org/event/finance-tra
 ining-for-school-and-district-leaders-federal-financial-management-single-a
 udit-fiscal-monitoring/
LOCATION:Online
URL:https://www.wested.org/event/finance-training-for-school-and-district-l
 eaders-federal-financial-management-single-audit-fiscal-monitoring/
END:VEVENT
END:VCALENDAR
