BEGIN:VCALENDAR
VERSION:2.0
PRODID:-//WestEd//Events//EN
CALSCALE:GREGORIAN
METHOD:PUBLISH
BEGIN:VEVENT
UID:event-14303@www.wested.org
DTSTAMP:20260421T041147Z
DTSTART:20230524T190000Z
DTEND:20230524T200000Z
SUMMARY:High Response Rates Through Collaborative Survey Practices: Lessons
  from Alaska’s Trauma-Engaged Schools Partnership with REL Northwest
DESCRIPTION:Join REL Northwest to learn about developing and administering 
 a large-scale statewide survey\, actionable strategies to achieve a high re
 sponse rate\, and valuable lessons learned along the way. \\n\\nhttps://ww
 w.wested.org/event/high-response-rates-through-collaborative-survey-practic
 es-alaskas-trauma-engaged-schools-rel-northwest/
LOCATION:Online
URL:https://www.wested.org/event/high-response-rates-through-collaborative-
 survey-practices-alaskas-trauma-engaged-schools-rel-northwest/
END:VEVENT
END:VCALENDAR
