BEGIN:VCALENDAR
VERSION:2.0
PRODID:-//WestEd//Events//EN
CALSCALE:GREGORIAN
METHOD:PUBLISH
BEGIN:VEVENT
UID:event-29052@www.wested.org
DTSTAMP:20260420T141415Z
DTSTART;VALUE=DATE:20250722
DTEND;VALUE=DATE:20250725
SUMMARY:Join WestEd at the 2025 CA MTSS Professional Learning Institute 
DESCRIPTION:Join WestEd at the 2025 California MTSS Professional Learning I
 nstitute\, July 22–24 in Anaheim\, where our experts will present on rest
 orative practices\, behavior support\, racial healing\, and data-driven str
 ategies to advance student voice.\\n\\nhttps://www.wested.org/event/join-we
 sted-at-the-2025-ca-mtss-professional-learning-institute/
LOCATION:Anaheim\, CA
URL:https://www.wested.org/event/join-wested-at-the-2025-ca-mtss-profession
 al-learning-institute/
END:VEVENT
END:VCALENDAR
