BEGIN:VCALENDAR
VERSION:2.0
PRODID:-//WestEd//Events//EN
CALSCALE:GREGORIAN
METHOD:PUBLISH
BEGIN:VEVENT
UID:event-24368@www.wested.org
DTSTAMP:20260422T195633Z
DTSTART;VALUE=DATE:20250207
DTEND;VALUE=DATE:20250209
SUMMARY:Join WestEd at the 2025 California STEAM Symposium
DESCRIPTION:WestEd will be at the 2025 California STEAM Symposium to exchan
 ge ideas\, engage in hands-on learning\, and reimagine the possibilities in
  STEAM education!\\n\\nhttps://www.wested.org/event/join-wested-at-the-2025
 -california-steam-symposium/
LOCATION:San Diego\, CA
URL:https://www.wested.org/event/join-wested-at-the-2025-california-steam-s
 ymposium/
END:VEVENT
END:VCALENDAR
