BEGIN:VCALENDAR
VERSION:2.0
PRODID:-//WestEd//Events//EN
CALSCALE:GREGORIAN
METHOD:PUBLISH
BEGIN:VEVENT
UID:event-34101@www.wested.org
DTSTAMP:20260422T113602Z
DTSTART;VALUE=DATE:20251103
DTEND;VALUE=DATE:20251106
SUMMARY:Join WestEd at the 2025 CERA Annual Conference 
DESCRIPTION:Join WestEd researchers at the Annual California Educational Re
 search Association (CERA) Conference scheduled for November 3–5\, 2025\
 , in Riverside\, California. \\n\\nhttps://www.wested.org/event/join-weste
 d-at-the-2025-cera-annual-conference/
LOCATION:Riverside\, CA
URL:https://www.wested.org/event/join-wested-at-the-2025-cera-annual-confer
 ence/
END:VEVENT
END:VCALENDAR
