BEGIN:VCALENDAR
VERSION:2.0
PRODID:-//WestEd//Events//EN
CALSCALE:GREGORIAN
METHOD:PUBLISH
BEGIN:VEVENT
UID:event-37085@www.wested.org
DTSTAMP:20260423T152701Z
DTSTART;VALUE=DATE:20260515
DTEND;VALUE=DATE:20260517
SUMMARY:Join WestEd at the 2026 Indiana Early Childhood ConferenceÂ 
DESCRIPTION:Join WestEd experts from theÂ PITC PARSÂ team at theâ€¯2026 Ind
 iana Early Childhood ConferenceÂ at the Indiana Convention Center\, May 15â
 €“16\, in Indianapolis\, Indiana.Â \\n\\nhttps://www.wested.org/event/join-
 wested-at-the-2026-indiana-early-childhood-conference/
LOCATION:Indianapolis\, IN
URL:https://www.wested.org/event/join-wested-at-the-2026-indiana-early-chil
 dhood-conference/
END:VEVENT
END:VCALENDAR
