BEGIN:VCALENDAR
VERSION:2.0
PRODID:-//WestEd//Events//EN
CALSCALE:GREGORIAN
METHOD:PUBLISH
BEGIN:VEVENT
UID:event-14558@www.wested.org
DTSTAMP:20260423T235642Z
DTSTART:20240402T220000Z
DTEND:20240402T230000Z
SUMMARY:Joyful Literacy at School and at Home
DESCRIPTION:Join REL West and the Sacramento County Office of Education (SC
 OE) for an engaging\, joyful\, and free webinar on how to support young chi
 ldren’s literacy development through culturally affirming\, evidence-base
 d instructional practices.\\n\\nhttps://www.wested.org/event/joyful-literac
 y-at-school-and-at-home/
LOCATION:Online
URL:https://www.wested.org/event/joyful-literacy-at-school-and-at-home/
END:VEVENT
END:VCALENDAR
