BEGIN:VCALENDAR
VERSION:2.0
PRODID:-//WestEd//Events//EN
CALSCALE:GREGORIAN
METHOD:PUBLISH
BEGIN:VEVENT
UID:event-14066@www.wested.org
DTSTAMP:20260421T113819Z
DTSTART:20221026T153000Z
DTEND:20221026T163000Z
SUMMARY:Are You Authentically Engaging Your Community? Strategies for Autho
 rizers at NACSA 2022
DESCRIPTION:Authorizers: Gain promising strategies during the 2022 NACSA Co
 nference for obtaining community input when authorizing new schools.\\n\\nh
 ttps://www.wested.org/event/nacsa-2022/
LOCATION:Minneapolis\, MN
URL:https://www.wested.org/event/nacsa-2022/
END:VEVENT
END:VCALENDAR
