BEGIN:VCALENDAR
VERSION:2.0
PRODID:-//WestEd//Events//EN
CALSCALE:GREGORIAN
METHOD:PUBLISH
BEGIN:VEVENT
UID:event-22338@www.wested.org
DTSTAMP:20260421T200205Z
DTSTART:20241204T170000Z
DTEND:20241204T181500Z
SUMMARY:Sustaining Evidence-Based Literacy Learning and Leadership
DESCRIPTION:Join a panel of teacher leaders and principals as they share th
 e best practices of their state or district literacy plans.\\n\\nhttps://ww
 w.wested.org/event/sustaining-literacy-learning-and-leadership/
LOCATION:Online
URL:https://www.wested.org/event/sustaining-literacy-learning-and-leadershi
 p/
END:VEVENT
END:VCALENDAR
