BEGIN:VCALENDAR
VERSION:2.0
PRODID:-//WestEd//Events//EN
CALSCALE:GREGORIAN
METHOD:PUBLISH
BEGIN:VEVENT
UID:event-13340@www.wested.org
DTSTAMP:20260420T094424Z
DTSTART;VALUE=DATE:20181201
DTEND;VALUE=DATE:20181206
SUMMARY:WestEd Will Present at the Learning Forward 2018 Annual Conference
DESCRIPTION:WestEd will be present at the Learning Forward 2018 Annual Con
 ference\, held on December 1 through December 5\, 2018\, at the Gaylord Te
 xan Resort and Convention Center\, in Dallas\, Texas.\\n\\nhttps://www.west
 ed.org/event/wested-at-learning-forward-2018/
LOCATION:Dallas\, Texas
URL:https://www.wested.org/event/wested-at-learning-forward-2018/
END:VEVENT
END:VCALENDAR
